BEGIN:VCALENDAR
VERSION:2.0
PRODID:-//TYPO3/NONSGML Calendarize//EN
BEGIN:VEVENT
UID:calendarize-maenner-stammtisch-1
DTSTAMP:20260423T143944Z
DTSTART:20260513T170000Z
SUMMARY:Männer Stammtisch
DESCRIPTION:Männer Stammtisch\, für alle Männer. In der Bieraterie ab 1
 9 Uhr Für Interessierte\, Neugierige und Mitglieder.
X-ALT-DESC;FMTTYPE=text/html:<p>Männer Stammtisch\, für alle Männer.<br
  /> In der Bieraterie ab 19 Uhr<br /> Für Interessierte\, Neugierige und 
 Mitglieder.</p>
LOCATION:
END:VEVENT
END:VCALENDAR
