BEGIN:VCALENDAR
VERSION:2.0
PRODID:-//TYPO3/NONSGML Calendarize//EN
BEGIN:VEVENT
UID:calendarize-stammtisch-1-5
DTSTAMP:20260423T145254Z
DTSTART:20260506T170000Z
SUMMARY:Stammtisch
DESCRIPTION:In der Bieraterie ab 19 Uhr. Für alle Interessierten\, Neugie
 rigen und Mitglieder.
X-ALT-DESC;FMTTYPE=text/html:<p>In der Bieraterie ab 19 Uhr.<br /> Für al
 le Interessierten\, Neugierigen und Mitglieder.</p>
LOCATION:
END:VEVENT
END:VCALENDAR
